BEGIN:VCALENDAR
VERSION:2.0
PRODID:-//Bertrand Th&eacute;bault Essayiste - ECPv6.15.20//NONSGML v1.0//EN
CALSCALE:GREGORIAN
METHOD:PUBLISH
X-WR-CALNAME:Bertrand Th&eacute;bault Essayiste
X-ORIGINAL-URL:https://akwa-penstel.com
X-WR-CALDESC:Évènements pour Bertrand Th&eacute;bault Essayiste
REFRESH-INTERVAL;VALUE=DURATION:PT1H
X-Robots-Tag:noindex
X-PUBLISHED-TTL:PT1H
BEGIN:VTIMEZONE
TZID:Europe/Paris
BEGIN:DAYLIGHT
TZOFFSETFROM:+0100
TZOFFSETTO:+0200
TZNAME:CEST
DTSTART:20250330T010000
END:DAYLIGHT
BEGIN:STANDARD
TZOFFSETFROM:+0200
TZOFFSETTO:+0100
TZNAME:CET
DTSTART:20251026T010000
END:STANDARD
BEGIN:DAYLIGHT
TZOFFSETFROM:+0100
TZOFFSETTO:+0200
TZNAME:CEST
DTSTART:20260329T010000
END:DAYLIGHT
BEGIN:STANDARD
TZOFFSETFROM:+0200
TZOFFSETTO:+0100
TZNAME:CET
DTSTART:20261025T010000
END:STANDARD
BEGIN:DAYLIGHT
TZOFFSETFROM:+0100
TZOFFSETTO:+0200
TZNAME:CEST
DTSTART:20270328T010000
END:DAYLIGHT
BEGIN:STANDARD
TZOFFSETFROM:+0200
TZOFFSETTO:+0100
TZNAME:CET
DTSTART:20271031T010000
END:STANDARD
END:VTIMEZONE
BEGIN:VEVENT
DTSTART;TZID=Europe/Paris:20260425T100000
DTEND;TZID=Europe/Paris:20260425T190000
DTSTAMP:20260419T012827
CREATED:20260309T113503Z
LAST-MODIFIED:20260309T113700Z
UID:1381-1777111200-1777143600@akwa-penstel.com
SUMMARY:Dédicaces Super U Souppes-sur-Loing
DESCRIPTION:
URL:https://akwa-penstel.com/event/dedicaces-super-u-souppes-sur-loing/
LOCATION:Route d’Égreville 77460 SOUPPES-SUR-LOING\, Route d’Égreville\, SOUPPES-SUR-LOING\, 77460
END:VEVENT
BEGIN:VEVENT
DTSTART;TZID=Europe/Paris:20260502T100000
DTEND;TZID=Europe/Paris:20260502T190000
DTSTAMP:20260419T012827
CREATED:20260309T113606Z
LAST-MODIFIED:20260309T113606Z
UID:1384-1777716000-1777748400@akwa-penstel.com
SUMMARY:Dédicaces Super U Noisy-le-Grand Cossonneau
DESCRIPTION:
URL:https://akwa-penstel.com/event/dedicaces-super-u-noisy-le-grand-cossonneau/
LOCATION:96 avenue Émile Cossonneau 93160 NOISY-LE-GRAND\, 96 avenue Émile Cossonneau\, NOISY-LE-GRAND\, 93160
END:VEVENT
BEGIN:VEVENT
DTSTART;TZID=Europe/Paris:20260509T100000
DTEND;TZID=Europe/Paris:20260509T190000
DTSTAMP:20260419T012827
CREATED:20260309T113650Z
LAST-MODIFIED:20260309T113650Z
UID:1387-1778320800-1778353200@akwa-penstel.com
SUMMARY:Dédicaces Super U Noisy-le-Grand Gabriel Péri
DESCRIPTION:
URL:https://akwa-penstel.com/event/dedicaces-super-u-noisy-le-grand-gabriel-peri/
LOCATION:5 avenue Gabriel Péri 93160 NOISY-LE-GRAND\, 5 avenue Gabriel Péri\, NOISY-LE-GRAND\, 93160
END:VEVENT
END:VCALENDAR